BEGIN:VCALENDAR
VERSION:2.0
PRODID:-//wp-events-plugin.com//7.2.3.1//EN
TZID:America/Vancouver
X-WR-TIMEZONE:America/Vancouver
BEGIN:VEVENT
UID:95@scquiltersguild.com
DTSTART;TZID=America/Vancouver:20260530T093000
DTEND;TZID=America/Vancouver:20260530T130000
DTSTAMP:20260422T025516Z
URL:https://scquiltersguild.com/calendar/26-10-resource-day-table-sale-202
 6/
SUMMARY:26-10 Resource Day: 2026 Table Sale
DESCRIPTION:\n\n\nTOPIC:\nSCQG 2026 Table Day (Event 26-10)\n\n\nPRESENTER:
 \nAn event to profile our talented members! Fabrics\, tools\, notions\, th
 reads\, books\, etc. and any quilted or embroidered items you would like t
 o sell at this Resource Day.\n\n\nDEADLINE:\nPlease register by online May
  25th to help resource day preparation and send e-transfers to pymts@scqui
 ltersguild.com from your bank.\n\nQuestions? Email program@scquiltersguild
 .com for assistance.\n\n\nDETAILS:\nTables can be shared. Doors open at 9:
 00 a.m. for setup.\n\n\n\n&nbsp\;
ATTACH;FMTTYPE=image/jpeg:https://scquiltersguild.com/site/wp-content/uplo
 ads/2026/04/IMG_4315-Notebooks-copy-e1776826476623.jpg
CATEGORIES:Resource Day
LOCATION:Sechelt Seniors Activity Centre Auditorium\, 5604 Trail Avenue\, S
 echelt\, V0N 3A3\, Canada
X-APPLE-STRUCTURED-LOCATION;VALUE=URI;X-ADDRESS=5604 Trail Avenue\, Sechelt
 \, V0N 3A3\, Canada;X-APPLE-RADIUS=100;X-TITLE=Sechelt Seniors Activity Ce
 ntre Auditorium:geo:0,0
END:VEVENT
BEGIN:VTIMEZONE
TZID:America/Vancouver
X-LIC-LOCATION:America/Vancouver
BEGIN:DAYLIGHT
DTSTART:20260308T030000
TZOFFSETFROM:-0800
TZOFFSETTO:-0700
TZNAME:PDT
END:DAYLIGHT
END:VTIMEZONE
END:VCALENDAR