BEGIN:VCALENDAR
VERSION:2.0
PRODID:-//wp-events-plugin.com//7.2.3.1//EN
TZID:America/Vancouver
X-WR-TIMEZONE:America/Vancouver
BEGIN:VEVENT
UID:99@scquiltersguild.com
DTSTART;TZID=America/Vancouver:20260920T093000
DTEND;TZID=America/Vancouver:20260920T160000
DTSTAMP:20260422T023052Z
URL:https://scquiltersguild.com/calendar/27-01-scrappy-modern-medallions/
SUMMARY:27-01: Scrappy Modern Medallions
DESCRIPTION:\n\n\nTOPIC:\n\nScrappy Modern Medallions (Event ID 27-01)\n\n\
 nPRESENTER:\nCarola Russell\n\n\nDATE:\nSunday\, September 20\, 2026\n\n\n
 LOCATION:\nEric Cardinall Hall-Gibsons\n\n\nDEADLINE:\nMembers get 90-day 
 advance booking priority\nMaximum Participants: 14\n\n\nDETAILS:\n\n\n\n\n
 This class features improvisational patchwork and a unique applique method
  which makes multiple applique shapes at once\, FAST! We’ll use water so
 luble thread\, water soluble glue and stabilizer\, and different thread we
 ights to make this project. All techniques are designed to make this proje
 ct fast\, fun\, and easy!\n9:30 a.m.- 4:00 p.m.  Doors open at 9:00 a.m.\
 nCost:  $70.00 Members\; $85.00 Non-members (includes kit fee for use of\
 nwater soluble &amp\; 80 w thread)\nBring your own lunch\, green bag\, and
  snacks. Coffee and tea provided.\n\n&nbsp\;\n\n\n\n\n\n\n
ATTACH;FMTTYPE=image/jpeg:https://scquiltersguild.com/site/wp-content/uplo
 ads/2026/04/scrappy.png
CATEGORIES:Program,Workshop
LOCATION:Eric Cardinall Hall\, 930 Chamberlin Rd\, Gibsons\, Canada
X-APPLE-STRUCTURED-LOCATION;VALUE=URI;X-ADDRESS=930 Chamberlin Rd\, Gibsons
 \, Canada;X-APPLE-RADIUS=100;X-TITLE=Eric Cardinall Hall:geo:0,0
END:VEVENT
BEGIN:VTIMEZONE
TZID:America/Vancouver
X-LIC-LOCATION:America/Vancouver
BEGIN:DAYLIGHT
DTSTART:20260308T030000
TZOFFSETFROM:-0800
TZOFFSETTO:-0700
TZNAME:PDT
END:DAYLIGHT
END:VTIMEZONE
END:VCALENDAR