BEGIN:VCALENDAR
VERSION:2.0
PRODID:-//wp-events-plugin.com//7.2.3.1//EN
TZID:America/Vancouver
X-WR-TIMEZONE:America/Vancouver
BEGIN:VEVENT
UID:98@scquiltersguild.com
DTSTART;TZID=America/Vancouver:20260927T093000
DTEND;TZID=America/Vancouver:20260927T160000
DTSTAMP:20260422T023920Z
URL:https://scquiltersguild.com/calendar/27-01b-studio-tour/
SUMMARY:27-01B: Studio Tour
DESCRIPTION:\n\n\nTOPIC:\n\nStudio Tour (Event ID 27-01B)\n\n\nPRESENTER:\
 n8 Hosts - SCQG Member Studios\n\n\nDATE:\nSunday\, Sept. 27\, 2026\n\n\nL
 OCATION:\n4 Studios Morning &amp\; Afternoon\; alternating Gibsons &amp\; 
 Sechelt\n\n\nDEADLINE:\nMore details to follow\; must be registered and pa
 id so sign up soon!\nMaximum Participants: 20\n\n\nDETAILS:\n\n\n\n\nInspi
 red after Brandy Maslowski’s presentation in March on studio clutter? Jo
 in this tour to see how eight fellow SCQG members foster creativity &amp\;
  organization in their quilting spaces.\n9:30 am -4:00 pm\n12:00 - 1:00 
   Lunch (Sechelt Restaurant TBD &amp\; Optional)\nCost: $20.00\nIn the mo
 rning:     Group A – Gibsons              Group B Sechelt\nIn
  the Afternoon:  Group A – Sechelt                Group 
 B Gibsons\n\n&nbsp\;\n\n\n\n\n\n\n
ATTACH;FMTTYPE=image/jpeg:https://scquiltersguild.com/site/wp-content/uplo
 ads/2024/09/SCQG-Logo-2024.png
CATEGORIES:Program,Workshop
END:VEVENT
BEGIN:VTIMEZONE
TZID:America/Vancouver
X-LIC-LOCATION:America/Vancouver
BEGIN:DAYLIGHT
DTSTART:20260308T030000
TZOFFSETFROM:-0800
TZOFFSETTO:-0700
TZNAME:PDT
END:DAYLIGHT
END:VTIMEZONE
END:VCALENDAR