BEGIN:VCALENDAR
VERSION:2.0
PRODID:-//wp-events-plugin.com//7.2.3.1//EN
TZID:America/Vancouver
X-WR-TIMEZONE:America/Vancouver
BEGIN:VEVENT
UID:100@scquiltersguild.com
DTSTART;TZID=America/Vancouver:20261025T093000
DTEND;TZID=America/Vancouver:20261025T160000
DTSTAMP:20260422T160020Z
URL:https://scquiltersguild.com/calendar/27-03-spider-rulers/
SUMMARY:27-03: Spider Rulers
DESCRIPTION:\n\n\nTOPIC:\n\nSpider Rulers (Event ID 27-03)\n\n\nPRESENTER:\
 nRojean Trent\n\n\nDATE:\nSunday\, October 25\, 2026\n\n\nLOCATION:\nEric 
 Cardinall Hall - Gibsons\n\n\nDEADLINE:\nMembers get 90-day advance bookin
 g priority\nMaximum Participants: 14\n\n\nDETAILS:\n\n\n\n\nThe Spider rul
 er is a specialized quilting tool used for cutting triangles\, kites\, and
  background pieces to create spiderweb\, kaleidoscope\, or four-pointed st
 ar and is different from a regular 45-degree ruler.  It creates a variety
  of blocks using 3- to 10-inch strips or strata widths. Once you have cut 
 the triangles\, reposition the ruler to cut the background kite and/or cor
 ner shapes. Depending on the positioning of the light and dark fabrics\, t
 he finished blocks resemble a spider web or a four-pointed star.\nLearn th
 e many uses of the Spider Ruler (ruler required by participant)       
  9:30 a.m.- 4:00 p.m.  Doors open at 9:00 a.m.\nCost:  $30.00 Members\; 
 $45.00 Non-members\n\nBring your own lunch\, green bag\, and snacks. Coffe
 e and tea provided.\n\n&nbsp\;\n\n\n\n\n\n\n
ATTACH;FMTTYPE=image/jpeg:https://scquiltersguild.com/site/wp-content/uplo
 ads/2026/04/spider.png
CATEGORIES:Program,Workshop
LOCATION:Eric Cardinall Hall\, 930 Chamberlin Rd\, Gibsons\, Canada
X-APPLE-STRUCTURED-LOCATION;VALUE=URI;X-ADDRESS=930 Chamberlin Rd\, Gibsons
 \, Canada;X-APPLE-RADIUS=100;X-TITLE=Eric Cardinall Hall:geo:0,0
END:VEVENT
BEGIN:VTIMEZONE
TZID:America/Vancouver
X-LIC-LOCATION:America/Vancouver
BEGIN:DAYLIGHT
DTSTART:20260308T030000
TZOFFSETFROM:-0800
TZOFFSETTO:-0700
TZNAME:PDT
END:DAYLIGHT
END:VTIMEZONE
END:VCALENDAR