BEGIN:VCALENDAR
VERSION:2.0
PRODID:-//wp-events-plugin.com//7.2.3.1//EN
TZID:America/Vancouver
X-WR-TIMEZONE:America/Vancouver
BEGIN:VEVENT
UID:101@scquiltersguild.com
DTSTART;TZID=America/Vancouver:20261129T093000
DTEND;TZID=America/Vancouver:20261129T160000
DTSTAMP:20260422T023859Z
URL:https://scquiltersguild.com/calendar/27-05-pojagi-korean-textile-art-t
 echnique/
SUMMARY:27-05: Pojagi - Korean Textile Technique
DESCRIPTION:\n\n\nTOPIC:\nPojagi - Korean Textile Technique (Event ID 27-05
 )\n\n\nPRESENTER:\nCatherine Nicholls\n\n\nDATE:\nSunday\, November 29\, 2
 026\n\n\nLOCATION:\nEric Cardinall Hall - Gibsons\n\n\nDEADLINE:\nMembers 
 get 90-day advance booking priority\nMaximum Participants: 12\n\n\nDETAILS
 :\n\n\n\n\nPojagi is an ancient Korean textile art form that is both beaut
 iful and practical. A pojagi (or po) is a cloth that is suited to wrap \,
  carry our store things. In this workshop\, students will take a brief loo
 k at the history of the pojagi and some of the ways this technique is bein
 g used by contemporary artists.\nThen participants get hands-on and learn 
 the technique to make their own pojagi cloth. We will use semi transparent
  fabric for a window feature and cottons for a “sturdier” cloth. Our 
 class will include both machine and hand sewing.\n9:30 a.m.- 4:00 p.m.  D
 oors open at 9:00 a.m.\nCost:  $85.00 Members\; $100.00 Non-members (incl
 udes the required\nOrganzie fabric (from England).\n\nBring your own lunch
 \, green bag\, and snacks. Coffee and tea provided.\n\n&nbsp\;\n\n\n\n\n\n
 \n
ATTACH;FMTTYPE=image/jpeg:https://scquiltersguild.com/site/wp-content/uplo
 ads/2026/04/Pojagi.png
CATEGORIES:Program,Workshop
LOCATION:Eric Cardinall Hall\, 930 Chamberlin Rd\, Gibsons\, Canada
X-APPLE-STRUCTURED-LOCATION;VALUE=URI;X-ADDRESS=930 Chamberlin Rd\, Gibsons
 \, Canada;X-APPLE-RADIUS=100;X-TITLE=Eric Cardinall Hall:geo:0,0
END:VEVENT
BEGIN:VTIMEZONE
TZID:America/Vancouver
X-LIC-LOCATION:America/Vancouver
BEGIN:STANDARD
DTSTART:20261101T010000
TZOFFSETFROM:-0700
TZOFFSETTO:-0800
TZNAME:PST
END:STANDARD
END:VTIMEZONE
END:VCALENDAR