BEGIN:VCALENDAR
VERSION:2.0
PRODID:-//wp-events-plugin.com//7.2.3.1//EN
TZID:America/Vancouver
X-WR-TIMEZONE:America/Vancouver
BEGIN:VEVENT
UID:102@scquiltersguild.com
DTSTART;TZID=America/Vancouver:20270116T093000
DTEND;TZID=America/Vancouver:20270118T200000
DTSTAMP:20260422T161212Z
URL:https://scquiltersguild.com/calendar/27-06-woolies-3-day-retreat/
SUMMARY:27-06: Woolies 3-day Retreat
DESCRIPTION:\n\n\nTOPIC:\nWoolies with Uschi: 3-day Retreat   (Event ID 2
 7-06)\n\n\nPRESENTER:\nUschi Greiner (See Bio)\n\n\nDATE:\nSaturday\, Janu
 ary 16 - 9:30 am - 8:00 pm\nSunday\, January 17 - 9:30 am - 8:00 pm\nMonda
 y\, January 18 - 9:30 am - 4:00 pm\n\n\nLOCATION:\nEric Cardinall Hall - G
 ibsons\n\n\nDEADLINE:\nJanuary 1\, 2027\nMaximum participants: 25 \n\n\n\
 nDETAILS:\n\nFor this 3 day workshop\, you may either:\n\n\n 	Purchase wor
 kshop event kit from Uschi (announced &amp\; posted by October 2026 Resour
 ce day) for order by January 1\, 2027\, OR\n 	Bring your own project\n\n\n
 \n\n\nMeals &amp\; Snacks:\n- Saturday lunch: on your own or take a break/
 go out\n- Saturday dinner: Potluck - bring your favourite!\n- Sunday lunch
 : Bring a sandwich cut in 4 for shared tray\; soup supplied\n- Sunday dinn
 er: Pizza &amp\; Salad supplied\n- Monday lunch: on your own or take a bre
 ak/go out\nSnacks and treats are always welcome!\nBring your own green bag
  (mug\, plate\, soup bowl\, cutlery)\n\nDoors open at 9:00 AM. Coffee &amp
 \; tea supplied.\n\n\n\n\n\n\n
ATTACH;FMTTYPE=image/jpeg:https://scquiltersguild.com/site/wp-content/uplo
 ads/2025/11/Whimsy.jpg
CATEGORIES:Workshop
LOCATION:Eric Cardinall Hall\, 930 Chamberlin Rd\, Gibsons\, Canada
X-APPLE-STRUCTURED-LOCATION;VALUE=URI;X-ADDRESS=930 Chamberlin Rd\, Gibsons
 \, Canada;X-APPLE-RADIUS=100;X-TITLE=Eric Cardinall Hall:geo:0,0
END:VEVENT
BEGIN:VTIMEZONE
TZID:America/Vancouver
X-LIC-LOCATION:America/Vancouver
BEGIN:STANDARD
DTSTART:20261101T010000
TZOFFSETFROM:-0700
TZOFFSETTO:-0800
TZNAME:PST
END:STANDARD
END:VTIMEZONE
END:VCALENDAR