BEGIN:VCALENDAR
VERSION:2.0
PRODID:-//wp-events-plugin.com//7.2.3.1//EN
TZID:America/Vancouver
X-WR-TIMEZONE:America/Vancouver
BEGIN:VEVENT
UID:103@scquiltersguild.com
DTSTART;TZID=America/Vancouver:20270307T093000
DTEND;TZID=America/Vancouver:20270309T200000
DTSTAMP:20260423T192545Z
URL:https://scquiltersguild.com/calendar/27-08-ufo-3-day-2027-project-retr
 eat/
SUMMARY:27-08: UFO 3-Day 2027 Project Retreat
DESCRIPTION:\n\n\nTOPIC:\n\nUFO 3-Day 2027 Project Retreat – 3 days  (Ev
 ent ID 27-08)\n\n\nDATE:\nSaturday\, March 7 - 9:30 am - 8:00 pm\nSunday\,
  March 8 - 9:30 am - 8:00 pm\nMonday\, March 9- 9:30 am - 4:00 pm\n\n\nLOC
 ATION:\nEric Cardinall Hall - Gibsons\n\n\nDEADLINE:\nMembers have 90-day 
 advance booking priority\nMaximum participants: 16\n\n\nDETAILS:\n\n\n\n\n
 \nMeals &amp\; Snacks:\n- Saturday lunch: on your own or take a break/go o
 ut\n- Saturday dinner: Potluck - bring your favourite!\n- Sunday lunch: Br
 ing a sandwich cut in 4 for shared tray\; soup supplied\n- Sunday dinner: 
 Pizza &amp\; Salad supplied\n- Monday lunch: on your own or take a break/g
 o out\nSnacks and treats are always welcome!\nBring your own green bag (mu
 g\, plate\, soup bowl\, cutlery)\n\nDoors open at 9:00 AM. \n\n\n\n\n\n\n
ATTACH;FMTTYPE=image/jpeg:https://scquiltersguild.com/site/wp-content/uplo
 ads/2024/02/UFO-210.png
CATEGORIES:Workshop
LOCATION:Eric Cardinall Hall\, 930 Chamberlin Rd\, Gibsons\, Canada
X-APPLE-STRUCTURED-LOCATION;VALUE=URI;X-ADDRESS=930 Chamberlin Rd\, Gibsons
 \, Canada;X-APPLE-RADIUS=100;X-TITLE=Eric Cardinall Hall:geo:0,0
END:VEVENT
BEGIN:VTIMEZONE
TZID:America/Vancouver
X-LIC-LOCATION:America/Vancouver
BEGIN:STANDARD
DTSTART:20261101T010000
TZOFFSETFROM:-0700
TZOFFSETTO:-0800
TZNAME:PST
END:STANDARD
END:VTIMEZONE
END:VCALENDAR