BEGIN:VCALENDAR
VERSION:2.0
PRODID:-//wp-events-plugin.com//7.2.3.1//EN
TZID:America/Vancouver
X-WR-TIMEZONE:America/Vancouver
BEGIN:VEVENT
UID:11@scquiltersguild.com
DTSTART;TZID=America/Vancouver:20240128T093000
DTEND;TZID=America/Vancouver:20240129T080000
DTSTAMP:20240110T213749Z
URL:https://scquiltersguild.com/calendar/woolies-retreat-2024-01-28/
SUMMARY:Woolies Retreat
DESCRIPTION:\n\nMaximum 20 (CLASS FULL as of 2023-12-10)\n\n\n\nTo join the
  waitlist\, click here to ask the Program Committee to contact you if sp
 ace becomes available.\nTOPIC: Do your own project and/or purchase Uschi
 ’s kit\n\n\nINSTRUCTOR: Uschi Grenier (Woolies on the Coast)\n\nDATES &a
 mp\; TIMES: (Doors open 9:00 am\; Workshop 9:30 am sharp)\n\n 	9:30 am - 8
 :00 pm - Sunday\, January 28th\n 	9:30am to **4:00pm** - Monday\, January 
 29th\n\nFEE:  (Kit: paid to Uschi at pickup\; cost depends on project)\n\
 n 	$30 for Guild Members\, includes:\n\n 	Sunday pizza dinner\n 	Sun/Mon l
 unch potluck to be arranged\, info to follow\n\n\n\n\n 	$35 for Non-Member
 s\, includes meals as above\n
ATTACH;FMTTYPE=image/jpeg:https://scquiltersguild.com/site/wp-content/uplo
 ads/2023/11/Woolies-REtreat-IMG_3495.jpeg
CATEGORIES:Workshop
LOCATION:Eric Cardinall Hall\, 930 Chamberlin Rd\, Gibsons\, Canada
X-APPLE-STRUCTURED-LOCATION;VALUE=URI;X-ADDRESS=930 Chamberlin Rd\, Gibsons
 \, Canada;X-APPLE-RADIUS=100;X-TITLE=Eric Cardinall Hall:geo:0,0
END:VEVENT
BEGIN:VTIMEZONE
TZID:America/Vancouver
X-LIC-LOCATION:America/Vancouver
BEGIN:STANDARD
DTSTART:20231105T010000
TZOFFSETFROM:-0700
TZOFFSETTO:-0800
TZNAME:PST
END:STANDARD
END:VTIMEZONE
END:VCALENDAR